BEGIN:VCALENDAR
VERSION:2.0
PRODID:-//hacksw/handcal//NONSGML v1.0//EN
BEGIN:VEVENT
SUMMARY:Rando animee par Marie-Jeanne : Belle rando, ventee, dans la Clape ce dimanche et retour par Notre Dame des auzils et cimetiere marin. 11 participants, 12 kms et 712 m de denivele.
UID:af6d0d4f-d32b-436a-9c34-ddea5b3e068d
DTSTART:20260314T230000Z
DTEND:20260315T230000Z
LOCATION:Localisation   
CATEGORIES:Sportif
STATUS:
URL;VALUE=URI:https://randoroquefort.sportsregions.fr/evenements/2026/03/15/rando-animee-par-marie-jeanne-belle-rando-ventee-dans-la-clape-ce-dimanche-et-retour-par-notre-dame-des-auzils-et-cimetiere-marin-11-participants-12-kms-et-712-m-de-denivele-2368589
END:VEVENT
END:VCALENDAR
