BEGIN:VCALENDAR
VERSION:2.0
PRODID:-//hacksw/handcal//NONSGML v1.0//EN
BEGIN:VEVENT
SUMMARY:Paques : pas de rando.
UID:2c8882ae-c87f-4598-b76f-2cb20aa65b55
DTSTART:20260404T220000Z
DTEND:20260405T220000Z
LOCATION:Localisation   
CATEGORIES:Sportif
STATUS:
URL;VALUE=URI:https://randoroquefort.sportsregions.fr/evenements/2026/04/05/paques-pas-de-rando-2429975
END:VEVENT
END:VCALENDAR
