BEGIN:VCALENDAR
VERSION:2.0
PRODID:-//hacksw/handcal//NONSGML v1.0//EN
BEGIN:VEVENT
SUMMARY:Balisage par l'equipe de marche nordique entre Padern et Duilhac
UID:8fd9c336-0028-4ae0-bc39-b4129d972b3d
DTSTART:20260406T220000Z
DTEND:20260407T220000Z
LOCATION:Localisation   
CATEGORIES:Sportif
STATUS:
URL;VALUE=URI:https://randoroquefort.sportsregions.fr/evenements/2026/04/07/balisage-par-lequipe-de-marche-nordique-entre-padern-et-duilhac-2441290
END:VEVENT
END:VCALENDAR
