BEGIN:VCALENDAR
VERSION:2.0
PRODID:-//hacksw/handcal//NONSGML v1.0//EN
BEGIN:VEVENT
SUMMARY:Marche nordique sportive animee par Pierre-Jean : rdv a 9h00 devant la Cueva a Roquefort des Corbieres. S'inscrire par SMS 06 32 54 80 88
UID:2e4a7b21-792b-4cf9-a2c7-04ba986901cb
DTSTART:20260410T220000Z
DTEND:20260411T220000Z
LOCATION:Localisation   
CATEGORIES:Sportif
STATUS:
URL;VALUE=URI:https://randoroquefort.sportsregions.fr/evenements/2026/04/11/marche-nordique-sportive-animee-par-pierre-jean-rdv-a-9h00-devant-la-cueva-a-roquefort-des-corbieres-sinscrire-par-sms-06-32-54-80-88-2430110
END:VEVENT
END:VCALENDAR
