BEGIN:VCALENDAR
VERSION:2.0
PRODID:-//hacksw/handcal//NONSGML v1.0//EN
BEGIN:VEVENT
SUMMARY:Rando animee par Laurent : VIEUSSAN La tour du pin 13 km – D+570m
UID:a11bad50-ec6e-4a2e-b136-fd907152f262
DTSTART:20260425T220000Z
DTEND:20260426T220000Z
LOCATION:Localisation   
CATEGORIES:Sportif
STATUS:
URL;VALUE=URI:https://randoroquefort.sportsregions.fr/evenements/2026/04/26/rando-animee-par-laurent-vieussan-la-tour-du-pin-13-km-d570m-2429981
END:VEVENT
END:VCALENDAR
