BEGIN:VCALENDAR
VERSION:2.0
PRODID:-//hacksw/handcal//NONSGML v1.0//EN
BEGIN:VEVENT
SUMMARY:Petite vadrouille : Rendez vous a 14H vers l'Ensolelhade  Vous inscrire par SMS 06 78 35 10 67
UID:d09cb7ef-221f-41cd-8cea-6761e9c7b15b
DTSTART:20260429T220000Z
DTEND:20260430T220000Z
LOCATION:Localisation   
CATEGORIES:Sportif
STATUS:
URL;VALUE=URI:https://randoroquefort.sportsregions.fr/evenements/2026/04/30/petite-vadrouille-rendez-vous-a-14h-vers-lensolelhade-vous-inscrire-par-sms-06-78-35-10-67-2429966
END:VEVENT
END:VCALENDAR
