BEGIN:VCALENDAR
VERSION:2.0
PRODID:-//hacksw/handcal//NONSGML v1.0//EN
BEGIN:VEVENT
SUMMARY:Petite vadrouille : Rendez vous a 14H vers l'Ensolelhade  Vous inscrire par SMS 06 78 35 10 67
UID:6cb12d08-2e0e-4318-9c40-27d249f9082f
DTSTART:20260506T220000Z
DTEND:20260507T220000Z
LOCATION:Localisation   
CATEGORIES:Sportif
STATUS:
URL;VALUE=URI:https://randoroquefort.sportsregions.fr/evenements/2026/05/07/petite-vadrouille-rendez-vous-a-14h-vers-lensolelhade-vous-inscrire-par-sms-06-78-35-10-67-2429965
END:VEVENT
END:VCALENDAR
