BEGIN:VCALENDAR
VERSION:2.0
PRODID:-//hacksw/handcal//NONSGML v1.0//EN
BEGIN:VEVENT
SUMMARY:Petite vadrouille : Rendez vous a 14H vers l'Ensolelhade  Vous inscrire par SMS 06 78 35 10 67
UID:ed86e550-9b82-4ff7-889f-db0409657fba
DTSTART:20260513T220000Z
DTEND:20260514T220000Z
LOCATION:Localisation   
CATEGORIES:Sportif
STATUS:
URL;VALUE=URI:https://randoroquefort.sportsregions.fr/evenements/2026/05/14/petite-vadrouille-rendez-vous-a-14h-vers-lensolelhade-vous-inscrire-par-sms-06-78-35-10-67-2429968
END:VEVENT
END:VCALENDAR
