BEGIN:VCALENDAR
VERSION:2.0
PRODID:-//hacksw/handcal//NONSGML v1.0//EN
BEGIN:VEVENT
SUMMARY:Rando animee par Jean ; Boucle autour de :  SERVIES-EN-VAL 12 km – D+240m
UID:1254c900-a8a6-47c5-9705-1e9d6f205b4e
DTSTART:20260516T220000Z
DTEND:20260517T220000Z
LOCATION:Localisation   
CATEGORIES:Sportif
STATUS:
URL;VALUE=URI:https://randoroquefort.sportsregions.fr/evenements/2026/05/17/rando-animee-par-jean-boucle-autour-de-servies-en-val-12-km-d240m-2429987
END:VEVENT
END:VCALENDAR
