BEGIN:VCALENDAR
VERSION:2.0
PRODID:-//hacksw/handcal//NONSGML v1.0//EN
BEGIN:VEVENT
SUMMARY:Marche nordique zen et sportive 14h30 animee par Pierre-Jean : rdv devant la Cueva a Roquefort des Corbieres. S'inscrire aupres de Pierre-Jean au 06 32 54 80 88
UID:32f77c66-55c0-4557-be78-415bf4b55e96
DTSTART:20260526T220000Z
DTEND:20260527T220000Z
LOCATION:Localisation   
CATEGORIES:Sportif
STATUS:
URL;VALUE=URI:https://randoroquefort.sportsregions.fr/evenements/2026/05/27/marche-nordique-zen-et-sportive-14h30-animee-par-pierre-jean-rdv-devant-la-cueva-a-roquefort-des-corbieres-sinscrire-aupres-de-pierre-jean-au-06-32-54-80-88-2430060
END:VEVENT
END:VCALENDAR
