BEGIN:VCALENDAR
VERSION:2.0
PRODID:-//hacksw/handcal//NONSGML v1.0//EN
BEGIN:VEVENT
SUMMARY:Petite vadrouille : Rendez vous a 14H vers l'Ensolelhade  Vous inscrire par SMS 06 78 35 10 67
UID:b7eb5b3b-89da-461e-a3d2-5118ee2b4b10
DTSTART:20260527T220000Z
DTEND:20260528T220000Z
LOCATION:Localisation   
CATEGORIES:Sportif
STATUS:
URL;VALUE=URI:https://randoroquefort.sportsregions.fr/evenements/2026/05/28/petite-vadrouille-rendez-vous-a-14h-vers-lensolelhade-vous-inscrire-par-sms-06-78-35-10-67-2429971
END:VEVENT
END:VCALENDAR
