BEGIN:VCALENDAR
VERSION:2.0
PRODID:-//hacksw/handcal//NONSGML v1.0//EN
BEGIN:VEVENT
SUMMARY:Rando animee par Marie-Jeanne : Marie-Jeanne   PUILAURENS Serre des Aiguilles 16 Km – D+500m
UID:7d696078-c561-4eab-bba3-ac193f5be2fd
DTSTART:20260530T220000Z
DTEND:20260531T220000Z
LOCATION:Localisation   
CATEGORIES:Sportif
STATUS:
URL;VALUE=URI:https://randoroquefort.sportsregions.fr/evenements/2026/05/31/rando-animee-par-marie-jeanne-marie-jeanne-puilaurens-serre-des-aiguilles-16-km-d500m-2429989
END:VEVENT
END:VCALENDAR
