BEGIN:VCALENDAR
VERSION:2.0
PRODID:-//hacksw/handcal//NONSGML v1.0//EN
BEGIN:VEVENT
SUMMARY:Longe cote, marche aquatique : rdv Eldorado a 14h15 signaler sa presence a Jean-Marie par SMS 06 07 01 45 44
UID:61a76961-82a1-4d9a-a104-8a0ff005d4bc
DTSTART:20260604T220000Z
DTEND:20260605T220000Z
LOCATION:Localisation   
CATEGORIES:Sportif
STATUS:
URL;VALUE=URI:https://randoroquefort.sportsregions.fr/evenements/2026/06/05/longe-cote-marche-aquatique-rdv-eldorado-a-14h15-signaler-sa-presence-a-jean-marie-par-sms-06-07-01-45-44-2430092
END:VEVENT
END:VCALENDAR
