BEGIN:VCALENDAR
VERSION:2.0
PRODID:-//hacksw/handcal//NONSGML v1.0//EN
BEGIN:VEVENT
SUMMARY:Rando sante de 14h a 16h. Rdv devant l'ensolelhade. Signaler sa presence a Marie-Jeanne par SMS au 06 71 44 25 69
UID:f3f6246e-3696-4628-a8f2-0045886f875f
DTSTART:20260607T220000Z
DTEND:20260608T220000Z
LOCATION:Localisation   
CATEGORIES:Sportif
STATUS:
URL;VALUE=URI:https://randoroquefort.sportsregions.fr/evenements/2026/06/08/rando-sante-de-14h-a-16h-rdv-devant-lensolelhade-signaler-sa-presence-a-marie-jeanne-par-sms-au-06-71-44-25-69-2430020
END:VEVENT
END:VCALENDAR
