BEGIN:VCALENDAR
VERSION:2.0
PRODID:-//hacksw/handcal//NONSGML v1.0//EN
BEGIN:VEVENT
SUMMARY:Marche nordique sportive animee par Pierre-Jean : rdv a 9h00 devant la Cueva a Roquefort des Corbieres. S'inscrire par SMS 06 32 54 80 88
UID:26c29557-2edf-4566-9c4b-df2ce89200f5
DTSTART:20260612T220000Z
DTEND:20260613T220000Z
LOCATION:Localisation   
CATEGORIES:Sportif
STATUS:
URL;VALUE=URI:https://randoroquefort.sportsregions.fr/evenements/2026/06/13/marche-nordique-sportive-animee-par-pierre-jean-rdv-a-9h00-devant-la-cueva-a-roquefort-des-corbieres-sinscrire-par-sms-06-32-54-80-88-2430106
END:VEVENT
END:VCALENDAR
