BEGIN:VCALENDAR
VERSION:2.0
PRODID:-//hacksw/handcal//NONSGML v1.0//EN
BEGIN:VEVENT
SUMMARY:Sejour Prats-de-Mollo anime par Jean-Marie
UID:4a75f8e3-b456-4549-9736-16e7b389c55f
DTSTART:20260618T220000Z
DTEND:20260622T220000Z
LOCATION:Localisation   
CATEGORIES:Sportif
STATUS:
URL;VALUE=URI:https://randoroquefort.sportsregions.fr/evenements/2026/06/19/sejour-prats-de-mollo-anime-par-jean-marie-2430009
END:VEVENT
END:VCALENDAR
